BEGIN:VCALENDAR
VERSION:2.0
PRODID:-//Stratis iCal API//FR
CALSCALE:GREGORIAN
X-WR-CALNAME:Le vélo durant l'Occupation
BEGIN:VEVENT
UID:event-262878
SUMMARY:Le vélo durant l'Occupation
DESCRIPTION:Par Clément Dusong  docteur en aménagement de l’espace et urbanisme  spécialiste du vélo en France  et Sébastien Albertelli  docteur en histoire  spécialiste de l’histoire de la France libre  de la Résistance et des services secrets  
DTSTAMP:20250828T145400Z
DTSTART:20251016T170000Z
DTEND:20251016T183000Z
STATUS:CONFIRMED
SEQUENCE:55
BEGIN:VALARM
TRIGGER:-PT30M
DESCRIPTION:Le vélo durant l'Occupation
ACTION:DISPLAY
END:VALARM
END:VEVENT
END:VCALENDAR